BEGIN:VCALENDAR
VERSION:2.0
PRODID:-//EveryKidCounts - ECPv6.15.17//NONSGML v1.0//EN
CALSCALE:GREGORIAN
METHOD:PUBLISH
X-WR-CALNAME:EveryKidCounts
X-ORIGINAL-URL:https://everykidcounts.org
X-WR-CALDESC:Events for EveryKidCounts
REFRESH-INTERVAL;VALUE=DURATION:PT1H
X-Robots-Tag:noindex
X-PUBLISHED-TTL:PT1H
BEGIN:VTIMEZONE
TZID:UTC
BEGIN:STANDARD
TZOFFSETFROM:+0000
TZOFFSETTO:+0000
TZNAME:UTC
DTSTART:20140101T000000
END:STANDARD
END:VTIMEZONE
BEGIN:VEVENT
DTSTART;TZID=UTC:20151118T203000
DTEND;TZID=UTC:20151118T230000
DTSTAMP:20260424T081756
CREATED:20151014T194958Z
LAST-MODIFIED:20151014T194958Z
UID:322-1447878600-1447887600@everykidcounts.org
SUMMARY:Phoenix Suns Night
DESCRIPTION:Phoenix Suns Night with Every Kid Counts. Contact Renee McClure for tickets: renee@everykidcounts.org
URL:https://everykidcounts.org/calendar/phoenix-suns-night/
LOCATION:Talking Stick Resort Arena\, 201 E Jefferson St.\, Phoenix\, AZ\, 85004\, United States
CATEGORIES:Basketball Game
ATTACH;FMTTYPE=image/jpeg:https://everykidcounts.org/wp-content/uploads/2015/10/Suns-Flyer.jpg
ORGANIZER;CN="Every Kid Counts Charity":MAILTO:rob@cpeusa.com
END:VEVENT
END:VCALENDAR