BEGIN:VCALENDAR
VERSION:2.0
PRODID:-//EveryKidCounts - ECPv6.15.17//NONSGML v1.0//EN
CALSCALE:GREGORIAN
METHOD:PUBLISH
X-WR-CALNAME:EveryKidCounts
X-ORIGINAL-URL:https://everykidcounts.org
X-WR-CALDESC:Events for EveryKidCounts
REFRESH-INTERVAL;VALUE=DURATION:PT1H
X-Robots-Tag:noindex
X-PUBLISHED-TTL:PT1H
BEGIN:VTIMEZONE
TZID:UTC
BEGIN:STANDARD
TZOFFSETFROM:+0000
TZOFFSETTO:+0000
TZNAME:UTC
DTSTART:20150101T000000
END:STANDARD
END:VTIMEZONE
BEGIN:VEVENT
DTSTART;VALUE=DATE:20191213
DTEND;VALUE=DATE:20191214
DTSTAMP:20260423T202750
CREATED:20190531T014336Z
LAST-MODIFIED:20190531T014336Z
UID:1026-1576195200-1576281599@everykidcounts.org
SUMMARY:Commence Toy/Gift Presentations to participating groups
DESCRIPTION:
URL:https://everykidcounts.org/calendar/commence-toy-gift-presentations-to-participating-groups/
CATEGORIES:Event
END:VEVENT
BEGIN:VEVENT
DTSTART;VALUE=DATE:20191115
DTEND;VALUE=DATE:20191225
DTSTAMP:20260423T202750
CREATED:20190531T014157Z
LAST-MODIFIED:20190531T014157Z
UID:1022-1573776000-1577231999@everykidcounts.org
SUMMARY:24th Annual Season of Giving
DESCRIPTION:
URL:https://everykidcounts.org/calendar/24th-annual-season-of-giving/
CATEGORIES:Event
END:VEVENT
BEGIN:VEVENT
DTSTART;VALUE=DATE:20191111
DTEND;VALUE=DATE:20191112
DTSTAMP:20260423T202750
CREATED:20190531T014043Z
LAST-MODIFIED:20190626T233508Z
UID:1020-1573430400-1573516799@everykidcounts.org
SUMMARY:EKC Celebrity Memorial Golf Tournament
DESCRIPTION:
URL:https://everykidcounts.org/calendar/toy-food-and-clothing-drive-kick-off/
CATEGORIES:Event
END:VEVENT
BEGIN:VEVENT
DTSTART;VALUE=DATE:20190928
DTEND;VALUE=DATE:20190929
DTSTAMP:20260423T202750
CREATED:20190531T013347Z
LAST-MODIFIED:20190531T013729Z
UID:1014-1569628800-1569715199@everykidcounts.org
SUMMARY:EKC 25th Anniversary Gala
DESCRIPTION:
URL:https://everykidcounts.org/calendar/ekc-25th-anniversary-gala/
LOCATION:Hilton Tempe
CATEGORIES:Event
END:VEVENT
BEGIN:VEVENT
DTSTART;VALUE=DATE:20190710
DTEND;VALUE=DATE:20190802
DTSTAMP:20260423T202750
CREATED:20190531T013918Z
LAST-MODIFIED:20190531T013918Z
UID:1017-1562716800-1564703999@everykidcounts.org
SUMMARY:17th Annual Back to School Drive
DESCRIPTION:
URL:https://everykidcounts.org/calendar/17th-annual-back-to-school-drive/
CATEGORIES:Event
END:VEVENT
BEGIN:VEVENT
DTSTART;TZID=UTC:20161003T170000
DTEND;TZID=UTC:20161003T210000
DTSTAMP:20260423T202750
CREATED:20160913T203627Z
LAST-MODIFIED:20160913T224454Z
UID:394-1475514000-1475528400@everykidcounts.org
SUMMARY:RA Sushi North Scottsdale Grand Opening
DESCRIPTION:Every Kid Counts Children’s Charity has been selected to be the benefactor of this very Gran Event by RA Sushi October 3rd from 5 pm till 9 pm. This would be an awesome opportunity to experience some really great food while at the same time help raise a substantial amount of money to support EKC and our programs.
URL:https://everykidcounts.org/calendar/ra-sushi-north-scottsdale/
LOCATION:RA Sushi North Scottsdale\, 13802 N. Scottsdale Road\, Scottsdale Towne Square\, Suite 176\, Scootsdale\, AZ
CATEGORIES:Event
END:VEVENT
END:VCALENDAR