BEGIN:VCALENDAR
VERSION:2.0
PRODID:-//EveryKidCounts - ECPv6.15.17//NONSGML v1.0//EN
CALSCALE:GREGORIAN
METHOD:PUBLISH
X-WR-CALNAME:EveryKidCounts
X-ORIGINAL-URL:https://everykidcounts.org
X-WR-CALDESC:Events for EveryKidCounts
REFRESH-INTERVAL;VALUE=DURATION:PT1H
X-Robots-Tag:noindex
X-PUBLISHED-TTL:PT1H
BEGIN:VTIMEZONE
TZID:UTC
BEGIN:STANDARD
TZOFFSETFROM:+0000
TZOFFSETTO:+0000
TZNAME:UTC
DTSTART:20180101T000000
END:STANDARD
END:VTIMEZONE
BEGIN:VEVENT
DTSTART;TZID=UTC:20190316T170000
DTEND;TZID=UTC:20190316T230000
DTSTAMP:20260424T045103
CREATED:20170224T230733Z
LAST-MODIFIED:20190129T181137Z
UID:491-1552755600-1552777200@everykidcounts.org
SUMMARY:2019 Aces and Bases Charity Poker and Casino Night
DESCRIPTION:Please join Every Kid Counts in the ninth annual Aces and Bases Poker – Casino Night Charity Event supporting our Every Kid Counts Children’s Charity programs. This is a fun filled event\, we guarantee you have a great time while supporting a great cause! \n\n\n\n\n\n\nEvan and Jaime Longoria are hosting Aces and Bases\, the annual Spring Training Charity Poker Tournament. Active and retired athletes\, poker celebrities\, comedians\, and local newscasters will join you at the poker tables to raise money for Phoenix based children’s charities. \nPrizes include a $1\,500 Seat into the 2019 World Series of Poker\, big screen TVs\, vacations\, and lots of other prizes at this great event. \n\n\n\n\nFor the games\, we will have plenty of TVs to watch the games! \nVIP\, 5:00 pm-11pm: \n\nExclusive Pre-Poker Happy Hour\nCatered Food by Coach T’s BBQ\n Hosted Bar\nSilent Auction\n50/50 Raffles\n$500 Casino Voucher for craps\, blackjack\, and roulette\nReserved Seat in the charity Poker Tournament (no charge)\nSquares game for BOTH NCAA games.\n\nGenearl Admission\, 7pm-11pm: \n\nCatered Food by Coach T’s BBQ\nHosted Bar\n$500 Casino Voucher for craps\, blackjack\, and roulette\nSilent Auction\n50/50 Raffles\nSquares Game for later NCAA Game\n\n  \n100% of the profits from this event\, through Every Kid Counts\, will help fund the following projects: \n• Books to Bikes Literacy Program\n• Character Counts Scholarships\n• Philanthropic programs to deserving children statewide\n• Back to School Drive\nEvery Kid Counts (EKC) is a non-profit 501 (C) public charity\, allowing youth’s to participate in programs giving them a great opportunity to learn\, be involved and find solutions to the challenges they are facing in today’s society. EKC was founded on March 24 1994\, with the goal of bringing hearts together who are dedicated to improving the lives of our community’s youth \nEvery Kid Counts’ goal of “Going the Distance” for our community’s youth is served through the dedicated efforts of many volunteers. The volunteers core consist of business leaders\, school teachers and administrators\, current and former professional athletes\, college students\, and individuals who are concerned about the well being of our Nation’s youth. The majority of our funds have come from private donations and funds raised from the sale of specialized products. 2019 EKC celebrates 25 years of service to the kids in our communities. For more info on EKC log onto www.everykidcounts.org. \nEvery Kid Counts Children’s Charity is proud of the 9 years of partnership with the Dream Dealers. Over the past 8 years our charity events have raised over $160\,000 for our charitable programs.
URL:https://everykidcounts.org/calendar/dunks-and-diamonds-final-4-party-charity-poker-tournament-casino-night/
LOCATION:8313 East Sharon Drive  Scottsdale\, AZ 85260\, 8313 East Sharon Drive \, Scottsdale\, AZ\, 85260\, United States
CATEGORIES:Poker Tournament
ATTACH;FMTTYPE=image/gif:https://everykidcounts.org/wp-content/uploads/2017/02/https_cdn.evbuc_.com_images_28647849_10503597081_1_original.gif
ORGANIZER;CN="Every Kid Counts Charity":MAILTO:rob@cpeusa.com
END:VEVENT
END:VCALENDAR